Workbook

Sheet 投标报价汇总表
A1: 工程量清单汇总表
A2: 建设项目名称: 茂名市荔枝国家现代农业产业园电白园区 (一期 )配套建设项目 (第二段 )
A3: 编 制 范 围: 贡园大道K1+260~RK13+140（不含涉铁段）、荔枝大道HK0+066.6~HK3+349.95
A4: 序 号 | B4: 章 次 | C4: 科 目 名 称 | E4: 金额(元)
A5: 1 | B5: 第100章 | C5: 总则 | E5: =第100章!E41 -> 21210203
A6: 2 | B6: 第200章 | C6: 路基 | E6: =第200章!K110 -> 0
A7: 3 | B7: 第300章 | C7: 路面 | E7: =第300章!E74 -> 0
A8: 4 | B8: 第400章 | C8: 桥梁、涵洞工程 | E8: =第400章!E111 -> 0
A9: 5 | B9: 第500章 | C9: 隧道
A10: 6 | B10: 第600章 | C10: 交通安全设施 | E10: =第600章!E85 -> 0
A11: 7 | B11: 第700章 | C11: 绿化及环境保护设施 | E11: =第700章!E90 -> 0
A12: 8 | B12: 第800章 | C12: 机电工程 | E12: =第800章!E122 -> 0
A13: 9 | B13: 第900章 | C13: 附属区房建工程
A14: 10 | B14: 第100章至900章清单合计 | E14: =SUM(E5:E13) -> 21210203
A15: 11 | B15: 已包含在清单合计中的材料、工程设备、专业工程暂估价合计
A16: 12 | B16: 清单合计减去材料、工程设备、专业工程暂估价 合计(即10-11)=12 | E16: =E14-E15 -> 21210203
A17: 13 | B17: 计日工合计
A18: 14 | B18: 暂列金额(不含计日工总额) | E18: 23151832
A19: 15 | B19: 投标报价(10+13+14)=15 | E19: =E14+E17+E18 -> 44362035

Sheet 第100章
A1: 工程量清单
A2: 建设项目名称: 茂名市荔枝国家现代农业产业园电白园区 (一期 )配套建设项目 (第二段 )
A3: 编制范围: 贡园大道K1+260~RK13+140（不含涉铁段）、荔枝大道HK0+066.6~HK3+349.95
A4: 工程量清单 第100章 总则
A5: 子目号 | B5: 子 目 名 称 | C5: 单位 | D5: 数量 | E5: 单价(元) | F5: 合价(元)
A6: 102 | B6: 工程管理
A7: 102-3 | B7: 安全生产费 | C7: 总额 | D7: 1.000 | E7: 5732152 | F7: =D7*E7 -> 5732152
A8: 103-1 | B8: 临时道路、便桥工程
A9: 103-1-1 | B9: 临时道路修建、养护与拆除（包括原道路的养护费） | C9: 总额 | D9: 1.000 | E9: 3897712.00 | F9: =D9*E9 -> 3897712
A10: 103-1-2 | B10: 临时便桥修建、养护与拆除（包括原桥梁的养护费） | C10: 总额 | D10: 1.000 | E10: 889759.00 | F10: =D10*E10 -> 889759
A11: 103-3 | B11: 临时供电设施
A12: 103-3-1 | B12: 设施架设、拆除（架设输电线路） | C12: 总额 | D12: 2.000 | E12: 339785.50 | F12: =D12*E12 -> 679571
A13: 104 | B13: 承包人驻地建设
A14: 104-1 | B14: 承包人驻地建设 | C14: 总额 | D14: 1.000 | E14: 7309829.00 | F14: =D14*E14 -> 7309829
A15: 104-2 | B15: 拌和及预制场设施安拆 | C15: 总额 | D15: 1.000 | E15: 2701180.00 | F15: =D15*E15 -> 2701180
A16: 10403010101 | B16: 桩基础
A17: 10403010102 | B17: 系梁
A18: 10403010104 | B18: 冠梁
A19: 10403010201 | B19: 桥台 | C19: m3
A20: 10403010202 | B20: 桥墩 | C20: m3
A21: 10403010203 | B21: 盖梁 | C21: m3
A22: 10403020101 | B22: 桩基础
A23: 10403020103 | B23: 系梁
A24: 10403020201 | B24: 桥台
A25: 10403020202 | B25: 桥墩
A26: 10403020203 | B26: 盖梁
A27: 10403030101 | B27: 桩基础
A28: 10403030201 | B28: 桥台
A29: 10403040101 | B29: 桩基础 | C29: m3
A30: 10403040201 | B30: 桥台
A31: 10403050101 | B31: 桩基础
A32: 10403050201 | B32: 桥台
A33: 10404010101 | B33: 桩基础
A34: 10404010102 | B34: 承台
A35: 10404010103 | B35: 系梁
A36: 10404010201 | B36: 桥台
A37: 10404010202 | B37: 桥墩
A38: 10404010203 | B38: 盖梁
A39: 1060202020101 | B39: 桩基础
A40: 1060202020201 | B40: 桥台
B41: 清单 第 100 章合计 人民币 | E41: =SUM(F7:F40) -> 21210203

Sheet 第200章
A1: 工程量清单
A2: 建设项目名称: 茂名市荔枝国家现代农业产业园电白园区 (一期 )配套建设项目 (第二段 )
A3: 编制范围: 贡园大道K1+260~RK13+140（不含涉铁段）、荔枝大道HK0+066.6~HK3+349.95
A4: 工程量清单 第200章 路基
A5: 子目号 | B5: 子 目 名 称 | C5: 单位 | D5: 数量 | E5: 单价(元) | F5: 合价(元)
A6: 202 | B6: 场地清理
A7: 202-1 | B7: 清理与掘除
A8: 202-1-1 | B8: 清理现场 | C8: m2 | D8: 569748.000 | F8: =D8*E8 -> 0
A9: 202-1-2 | B9: 砍伐树木 | C9: 棵 | D9: 20014.000 | F9: =D9*E9 -> 0
A10: 202-2 | B10: 挖除旧路面
A11: 202-2-1 | B11: 挖除水泥混凝土路面
A12: 202-2-1-1 | B12: 挖除不等厚的水泥混凝土路面 | C12: m3 | D12: 960.900 | F12: =D12*E12 -> 0
A13: 203-1 | B13: 路基挖方
A14: 203-1-1 | B14: 挖土方 | C14: m3 | D14: 451287.360 | F14: =D14*E14 -> 0
A15: 203-1-2 | B15: 挖石方 | C15: m3 | D15: 332245.400 | F15: =D15*E15 -> 0
A16: 203-1-3 | B16: 挖除非适用材料（不含淤泥） | C16: m3 | D16: 83014.800 | F16: =D16*E16 -> 0
A17: 203-1-4 | B17: 挖淤泥 | C17: m3 | D17: 33337.910 | F17: =D17*E17 -> 0
A18: 204-1 | B18: 路基填筑
A19: 204-1-2 | B19: 利用土方 | C19: m3 | D19: 316358.705 | F19: =D19*E19 -> 0
A20: 204-1-3 | B20: 利用石方 | C20: m3 | D20: 361136.300 | F20: =D20*E20 -> 0
A21: 204-1-5 | B21: 借土填方 | C21: m3 | D21: 881963.602 | F21: =D21*E21 -> 0
A22: 204-1-7 | B22: 结构物台背回填
A23: 204-1-7-1 | B23: 回填石屑 | C23: m3 | D23: 61559.800 | F23: =D23*E23 -> 0
A24: 204-1-7-6 | B24: 回填粘土 | C24: m3 | D24: 10082.200 | F24: =D24*E24 -> 0
A25: 204-1-8 | B25: 锥坡及台前溜坡填土 | C25: m3 | D25: 3431.700 | F25: =D25*E25 -> 0
A26: 204-1-10 | B26: 换填砂砾 | C26: m3 | D26: 148.500 | F26: =D26*E26 -> 0
A27: 204-1-11 | B27: 换填碎石 | C27: m3 | D27: 39284.100 | F27: =D27*E27 -> 0
A28: 204-1-14 | B28: 换填石屑 | C28: m3 | D28: 54868.015 | F28: =D28*E28 -> 0
A29: 204-1-15 | B29: 换填片石 | C29: m3 | D29: 28646.310 | F29: =D29*E29 -> 0
A30: 204-1-16 | B30: 粘土防水层 | C30: m3 | D30: 324.000 | F30: =D30*E30 -> 0
A31: 205-1 | B31: 软土地基处理
A32: 205-1-2 | B32: 软基垫层
A33: 205-1-2-2 | B33: 碎石垫层 | C33: m3 | D33: 4287.200 | F33: =D33*E33 -> 0
A34: 205-1-15 | B34: 土工格栅
A35: 205-1-15 | B35: 土工格栅 | C35: m2 | D35: 13645.900 | F35: =D35*E35 -> 0
A36: 205-1-15-2 | B36: 双向土工格栅 | C36: m2 | D36: 14290.700 | F36: =D36*E36 -> 0
A37: 205-1-19 | B37: 粉喷桩
A38: 205-1-19-3 | B38: φ500mm粉喷桩 | C38: m | D38: 45795.000 | F38: =D38*E38 -> 0
A39: 206-1 | B39: 整修路拱 | C39: km | D39: 14.580 | F39: =D39*E39 -> 0
A40: 206-2 | B40: 整修边坡 | C40: km | D40: 14.580 | F40: =D40*E40 -> 0
A41: 207 | B41: 坡面排水
A42: 207-1 | B42: 边沟
A43: 207-1-5 | B43: 现浇混凝土边沟
A44: 207-1-5-1 | B44: 现浇钢筋 | C44: kg | D44: 153979.200 | F44: =D44*E44 -> 0
A45: 207-1-5-2 | B45: C30现浇混凝土 | C45: m3 | D45: 1241.300 | F45: =D45*E45 -> 0
A46: 207-1-5-4 | B46: C20现浇混凝土 | C46: m3 | D46: 8071.900 | F46: =D46*E46 -> 0
A47: 207-1-5-6 | B47: C30现浇混凝土 | C47: m3 | D47: 17.080 | F47: =D47*E47 -> 0
A48: 207-2 | B48: 排水沟
A49: 207-2-4 | B49: 现浇混凝土排水沟
A50: 207-2-4-1 | B50: 现浇钢筋 | C50: kg | D50: 12045.700 | F50: =D50*E50 -> 0
A51: 207-2-4-4 | B51: C20现浇混凝土 | C51: m3 | D51: 10851.500 | F51: =D51*E51 -> 0
A52: 207-2-4-5 | B52: C25现浇混凝土 | C52: m3 | D52: 480.120 | F52: =D52*E52 -> 0
A53: 207-2-4-6 | B53: C30现浇混凝土 | C53: m3
A54: 207-3 | B54: 截水沟
A55: 207-3-4 | B55: 现浇混凝土截水沟
A56: 207-3-4-1 | B56: 现浇钢筋 | C56: kg | D56: 359.900 | F56: =D56*E56 -> 0
A57: 207-3-4-4 | B57: C20现浇混凝土 | C57: m3 | D57: 922.000 | F57: =D57*E57 -> 0
A58: 207-4 | B58: 急流槽或跌水
A59: 207-4-4 | B59: 现浇混凝土急流槽
A60: 207-4-4-1 | B60: 现浇钢筋 | C60: kg | D60: 5037.200 | F60: =D60*E60 -> 0
A61: 207-4-4-4 | B61: C20现浇混凝土 | C61: m3 | D61: 6135.900 | F61: =D61*E61 -> 0
A62: 207-5 | B62: 路基盲（渗）沟
A63: 207-5-1 | B63: 碎石料盲（渗）沟 | C63: m3 | D63: 3691.900 | F63: =D63*E63 -> 0
A64: 207-9 | B64: 边沟、排水沟盖板
A65: 207-9-1 | B65: 盖板钢筋 | C65: kg | D65: 380842.100 | F65: =D65*E65 -> 0
A66: 207-9-6 | B66: 盖板C30混凝土 | C66: m3 | D66: 2332.660 | F66: =D66*E66 -> 0
A67: 207-10 | B67: 路基排水管
A68: 207-10-1 | B68: 钢筋混凝土排水管
A69: 207-10-1-7 | B69: φ800mm | C69: m | D69: 634.000 | F69: =D69*E69 -> 0
A70: 207-10-2 | B70: PVC排水管
A71: 207-10-2-2 | B71: φ100mmPVC排水管 | C71: m | D71: 30.000 | F71: =D71*E71 -> 0
A72: 207-10-2-6 | B72: φ300mmPVC排水管 | C72: m | D72: 392.000 | F72: =D72*E72 -> 0
A73: 207-10-4 | B73: 硬式透水管
A74: 207-10-4-3 | B74: φ150mm | C74: m | D74: 10369.900 | F74: =D74*E74 -> 0
A75: 207-11 | B75: 集水井 | C75: 座 | D75: 352.000 | F75: =D75*E75 -> 0
A76: 207-16 | B76: 油水分离池9.1×1.9×1.8m | C76: 座 | D76: 18.000 | F76: =D76*E76 -> 0
A77: 207-19 | B77: 雨水口 | C77: 座 | D77: 352.000 | F77: =D77*E77 -> 0
A78: 207-20 | B78: 竖井 | C78: 座 | D78: 10.000 | F78: =D78*E78 -> 0
A79: 208-1 | B79: 植物护坡
A80: 208-1-1 | B80: 喷播草灌护坡 | C80: m2 | D80: 100895.510 | F80: =D80*E80 -> 0
A81: 208-1-2 | B81: 三维植被网护坡 | C81: m2 | D81: 184627.600 | F81: =D81*E81 -> 0
A82: 208-1-6 | B82: 加筋麦克垫护坡 | C82: m2 | D82: 22565.000 | F82: =D82*E82 -> 0
A83: 208-4 | B83: 混凝土护坡
A84: 208-4-1-4 | B84: 预制六棱砖护坡 | C84: m3 | D84: 800.500 | F84: =D84*E84 -> 0
A85: 208-4-3 | B85: C20混凝土护坡
A86: 208-4-3-6 | B86: 现浇混凝土护脚 | C86: m3 | D86: 3430.100 | F86: =D86*E86 -> 0
A87: 208-4-3-7 | B87: 现浇人字骨架护坡 | C87: m3 | D87: 6240.110 | F87: =D87*E87 -> 0
A88: 208-4-3-8 | B88: 现浇踏步 | C88: m3 | D88: 123.300 | F88: =D88*E88 -> 0
A89: 209 | B89: 挡土墙
A90: 209-1 | B90: 砌体挡土墙
A91: 209-1-1 | B91: 浆砌片石挡墙 | C91: m3 | D91: 4344.800 | F91: =D91*E91 -> 0
A92: 209-1-3 | B92: 浆砌片石护脚 | C92: m3 | D92: 3.820 | F92: =D92*E92 -> 0
A93: 209-3 | B93: 混凝土挡土墙
A94: 209-3-1 | B94: 挡墙混凝土
A95: 209-3-1-3 | B95: C20片石混凝土 | C95: m3 | D95: 3712.460 | F95: =D95*E95 -> 0
A96: 209-3-1-6 | B96: C20混凝土硬化 | C96: m3 | D96: 2922.460 | F96: =D96*E96 -> 0
A97: 209-4 | B97: 挡土墙基础垫层
A98: 209-4-2 | B98: 挡土墙基础碎石垫层 | C98: m3 | D98: 2649.860 | F98: =D98*E98 -> 0
A99: 215 | B99: 锥坡
A100: 215-5 | B100: 浆砌片石锥坡 | C100: m3 | D100: 320.980 | F100: =D100*E100 -> 0
...

Sheet 第300章
A1: 工程量清单
A2: 建设项目名称: 茂名市荔枝国家现代农业产业园电白园区 (一期 )配套建设项目 (第二段 )
A3: 编制范围: 贡园大道K1+260~RK13+140（不含涉铁段）、荔枝大道HK0+066.6~HK3+349.95
A4: 工程量清单 第300章 路面
A5: 子目号 | B5: 子 目 名 称 | C5: 单位 | D5: 数量 | E5: 单价(元) | F5: 合价(元)
A6: 302-1 | B6: 垫层
A7: 302-1-1 | B7: 碎石垫层
A8: 302-1-1-1 | B8: 厚400mm以内 | C8: m2 | D8: 154046.220 | F8: =D8*E8 -> 0
A9: 302-1-1-2 | B9: 厚180mm | C9: m2 | D9: 28253.000 | F9: =D9*E9 -> 0
A10: 302-1-1-4 | B10: 厚300mm | C10: m2 | D10: 615.334 | F10: =D10*E10 -> 0
A11: 302-2 | B11: 垫层（按体积计）
A12: 302-2-1 | B12: 碎石垫层（按体积计） | C12: m3 | D12: 257.300 | F12: =D12*E12 -> 0
A13: 304 | B13: 水泥稳定土底基层、基层
A14: 304-1 | B14: 水泥稳定土底基层、基层
A15: 304-1-2 | B15: 4%水泥含量稳定土底基层、基层
A16: 304-1-2-1 | B16: 厚150mm水泥碎石 | C16: m2 | D16: 51058.000 | F16: =D16*E16 -> 0
A17: 304-1-2-2 | B17: 厚180mm水泥碎石 | C17: m2 | D17: 297195.000 | F17: =D17*E17 -> 0
A18: 304-1-3 | B18: 5%水泥含量稳定土底基层、基层
A19: 304-1-3-1 | B19: 厚150mm水泥碎石 | C19: m2 | D19: 686.434 | F19: =D19*E19 -> 0
A20: 304-1-3-2 | B20: 厚180mm水泥碎石 | C20: m2 | D20: 48691.000 | F20: =D20*E20 -> 0
A21: 304-1-3-3 | B21: 厚200mm水泥碎石 | C21: m2 | D21: 284455.000 | F21: =D21*E21 -> 0
A22: 304-1-4 | B22: 5-6%水泥含量稳定土底基层、基层
A23: 304-1-4-2 | B23: 厚180mm水泥稳定碎石 | C23: m2 | D23: 13999.400 | F23: =D23*E23 -> 0
A24: 304-2 | B24: 搭板、埋板下水泥稳定土底基层、基层
A25: 304-2-3 | B25: 4-5%水泥碎石 | C25: m3 | D25: 291.400 | F25: =D25*E25 -> 0
A26: 308-1 | B26: 透层
A27: 308-1-2 | B27: 透层（PC-2） | C27: m2 | D27: 315274.000 | F27: =D27*E27 -> 0
A28: 310-2 | B28: 封层
A29: 310-2-2 | B29: 乳化沥青封层 | C29: m2
A30: 310-2-3 | B30: 改性乳化沥青稀浆封层 | C30: m2 | D30: 315274.000 | F30: =D30*E30 -> 0
A31: 312-1 | B31: 普通水泥混凝土面板
A32: 312-1-2 | B32: 厚200mm以内面板 | C32: m2 | D32: 886.500 | F32: =D32*E32 -> 0
A33: 312-1-4 | B33: 厚200mm | C33: m2 | D33: 24411.900 | F33: =D33*E33 -> 0
A34: 312-1-8 | B34: 厚260mm面板 | C34: m2 | D34: 45807.000 | F34: =D34*E34 -> 0
A35: 312-1-10 | B35: 厚280mm | C35: m2 | D35: 269467.000 | F35: =D35*E35 -> 0
A36: 312-2 | B36: 混凝土路面钢筋
A37: 312-2-1 | B37: HPB300 | C37: kg | D37: 819041.000 | F37: =D37*E37 -> 0
A38: 312-2-2 | B38: HRB400 | C38: kg | D38: 270930.270 | F38: =D38*E38 -> 0
A39: 313 | B39: 培土路肩、中央分隔带填土、土路肩加固及路缘石
A40: 313-2 | B40: 中央分隔带回填土 | C40: m3 | D40: 264.000 | F40: =D40*E40 -> 0
A41: 313-6 | B41: 混凝土路缘石
A42: 313-6-3 | B42: 安砌混凝土路缘石
A43: 313-6-3-1 | B43: A型路缘石 1000*380*150mm | C43: m | D43: 20583.500 | F43: =D43*E43 -> 0
A44: 313-7 | B44: 花岗岩路缘石
A45: 313-7-1 | B45: B型路缘石 1000*430*200mm | C45: m | D45: 21432.000 | F45: =D45*E45 -> 0
A46: 313-7-2 | B46: C型路缘石 1000*240*200mm | C46: m | D46: 2850.000 | F46: =D46*E46 -> 0
A47: 313-8 | B47: 路缘石基座
A48: 313-8-2 | B48: 现浇混凝土基座
A49: 313-8-2-1 | B49: C15混凝土 | C49: m3 | D49: 1050.200 | F49: =D49*E49 -> 0
A50: 314 | B50: 路面及中央分隔带排水
A51: 314-1 | B51: 排水管
A52: 314-1-1 | B52: PVC-U纵向排水管
A53: 314-1-1-1 | B53: Φ50mm | C53: m | D53: 25918.200 | F53: =D53*E53 -> 0
A54: 314-1-7 | B54: PE纵向排水管
A55: 314-1-7-6 | B55: Φ300mm | C55: m | D55: 3534.600 | F55: =D55*E55 -> 0
A56: 314-1-8 | B56: PE横向排水管
A57: 314-1-8-3 | B57: Φ150mm | C57: m | D57: 4739.000 | F57: =D57*E57 -> 0
A58: 314-1-8-6 | B58: Φ300mm | C58: m | D58: 5984.000 | F58: =D58*E58 -> 0
A59: 314-1-9 | B59: 硬式透水管
A60: 314-1-9-3 | B60: Φ150mm | C60: m | D60: 12350.300 | F60: =D60*E60 -> 0
A61: 314-1-10 | B61: 管道包封混凝土
A62: 314-1-10-5 | B62: C25现浇混凝土 | C62: m3 | D62: 2268.800 | F62: =D62*E62 -> 0
A63: 314-4 | B63: 中央分隔带渗沟
A64: 314-4-2 | B64: 碎石渗沟 | C64: m3 | D64: 1687.900 | F64: =D64*E64 -> 0
A65: 314-6 | B65: 路肩、中央分隔带排水沟
A66: 314-6-4 | B66: 土工布（膜）
A67: 314-6-4-1 | B67: 土工布 | C67: m2 | D67: 77127.600 | F67: =D67*E67 -> 0
A68: 314-9 | B68: 沥青隔渗层 | C68: m2 | D68: 46834.600 | F68: =D68*E68 -> 0
A69: 315-3 | B69: 土路肩铺草皮 | C69: m2 | D69: 15759.500 | F69: =D69*E69 -> 0
A70: 318 | B70: 块料面层
A71: 318-1 | B71: 人行道砖
A72: 318-1-1 | B72: 厚60mm | C72: m2 | D72: 383.100 | F72: =D72*E72 -> 0
A73: 319 | B73: 花岗岩车止石φ250*700 | C73: 个 | D73: 100.000 | F73: =D73*E73 -> 0
B74: 清单 第 300 章合计 人民币 | E74: =SUM(F8:F73) -> 0

Sheet 第400章
A1: 工程量清单
A2: 建设项目名称: 茂名市荔枝国家现代农业产业园电白园区 (一期 )配套建设项目 (第二段 )
A3: 编制范围: 贡园大道K1+260~RK13+140（不含涉铁段）、荔枝大道HK0+066.6~HK3+349.95
A4: 工程量清单 第400章 桥梁、涵洞工程
A5: 子目号 | B5: 子 目 名 称 | C5: 单位 | D5: 数量 | E5: 单价(元) | F5: 合价(元)
A6: 403-1 | B6: 基础钢筋（包括灌注桩、承台、支撑梁、基础系梁、沉桩、沉井等）
A7: 403-1-1 | B7: 光圆钢筋（HPB235、HPB300） | C7: kg | D7: 45654.200 | F7: =D7*E7 -> 0
A8: 403-1-2 | B8: 带肋钢筋（HRB335、HRB400） | C8: kg | D8: 459031.400 | F8: =D8*E8 -> 0
A9: 403-2 | B9: 下部结构钢筋（包括墩柱、台身、盖梁、墩间系梁、耳背墙等）
A10: 403-2-1 | B10: 光圆钢筋（HPB235、HPB300） | C10: kg | D10: 9099.500 | F10: =D10*E10 -> 0
A11: 403-2-2 | B11: 带肋钢筋（HRB335、HRB400） | C11: kg | D11: 535972.300 | F11: =D11*E11 -> 0
A12: 403-3 | B12: 上部结构钢筋（包括现浇、预制梁板、整体化层、桥面连续、绞缝、桥面铺装等） | F12: =D12*E12 -> 0
A13: 403-3-2 | B13: 带肋钢筋（HRB335、HRB400） | C13: kg | D13: 1701719.300 | F13: =D13*E13 -> 0
A14: 403-4 | B14: 附属结构钢筋（包括缘石、人行道、防撞墙、栏杆、护栏、桥头搭板、枕梁、抗震挡块、支座垫石等）
A15: 403-4-1 | B15: 光圆钢筋（HPB235、HPB300） | C15: kg | D15: 1149.100 | F15: =D15*E15 -> 0
A16: 403-4-2 | B16: 带肋钢筋（HRB335、HRB400） | C16: kg | D16: 418626.600 | F16: =D16*E16 -> 0
A17: 403-4-6 | B17: 钢遮板（Q235）/法兰盘 | C17: kg | D17: 1588.200 | F17: =D17*E17 -> 0
A18: 404-1 | B18: 干处挖土方 | C18: m3 | D18: 3825.300 | F18: =D18*E18 -> 0
A19: 405-1 | B19: 陆上钻孔灌注桩
A20: 405-1-1 | B20: 孔深60m以内的陆上钻孔灌注桩
A21: 405-1-1-1 | B21: 桩径80cm | C21: m | D21: 410.000 | F21: =D21*E21 -> 0
A22: 405-1-1-3 | B22: 桩径120cm | C22: m | D22: 878.000 | F22: =D22*E22 -> 0
A23: 405-1-1-5 | B23: 桩径140cm | C23: m | D23: 1092.000 | F23: =D23*E23 -> 0
A24: 405-1-1-7 | B24: 桩径160cm | C24: m | D24: 840.000 | F24: =D24*E24 -> 0
A25: 410-1 | B25: 混凝土基础（包括支撑梁、桩基承台、基础系梁，但不包括桩基和沉井）
A26: 410-1-2 | B26: C20混凝土 | C26: m3 | D26: 32.300 | F26: =D26*E26 -> 0
A27: 410-1-4 | B27: C30混凝土 | C27: m3 | D27: 351.400 | F27: =D27*E27 -> 0
A28: 410-1-5 | B28: C35混凝土 | C28: m3 | D28: 44.000 | F28: =D28*E28 -> 0
A29: 410-2 | B29: 混凝土下部结构（包括墩柱、台身、盖梁、系梁、耳背墙等）
A30: 410-2-4 | B30: C30混凝土 | C30: m3 | D30: 84.400 | F30: =D30*E30 -> 0
A31: 410-2-5 | B31: C35混凝土 | C31: m3 | D31: 483.000 | F31: =D31*E31 -> 0
A32: 410-2-6 | B32: C40混凝土 | C32: m3 | D32: 2591.000 | F32: =D32*E32 -> 0
A33: 410-3 | B33: 现浇混凝土上部结构
A34: 410-3-6 | B34: C40混凝土 | C34: m3 | D34: 718.000 | F34: =D34*E34 -> 0
A35: 410-3-8 | B35: C50混凝土 | C35: m3 | D35: 422.400 | F35: =D35*E35 -> 0
A36: 410-4-4-3 | B36: 预应力混凝土小箱梁 | C36: m3 | D36: 4680.800 | F36: =D36*E36 -> 0
A37: 410-6 | B37: 现浇混凝土附属结构
A38: 410-6-2 | B38: C20混凝土 | C38: m3 | D38: 5.300 | F38: =D38*E38 -> 0
A39: 410-6-3 | B39: C25混凝土 | C39: m3
A40: 410-6-4 | B40: C30混凝土 | C40: m3 | D40: 2018.200 | F40: =D40*E40 -> 0
A41: 410-6-6 | B41: C40混凝土 | C41: m3
A42: 410-6-8 | B42: C50混凝土 | C42: m3 | D42: 22.600 | F42: =D42*E42 -> 0
A43: 411-5 | B43: 后张法预应力钢绞线 | C43: kg | D43: 215925.000 | F43: =D43*E43 -> 0
A44: 411-10 | B44: 预制安装预应力混凝土上部结构
A45: 411-10-4 | B45: 预应力混凝土上部结构（含预制、运输、安装）
A46: 415-2 | B46: 水泥混凝土桥面铺装
A47: 415-2-1 | B47: 普通水泥混凝土桥面铺装
A48: 415-2-1-1 | B48: 普通水泥混凝土桥面铺装（按体积计）
A49: 415-2-1-1-4 | B49: C40混凝土 | C49: m3 | D49: 2043.300 | F49: =D49*E49 -> 0
A50: 416-1 | B50: 矩形板式橡胶支座
A51: 416-1-2 | B51: 矩形板式橡胶支座（按个分型号计）
A52: 416-1-2-2 | B52: GYZ 350*450*99 | C52: 个 | D52: 254.000 | F52: =D52*E52 -> 0
A53: 416-2 | B53: 圆形板式橡胶组合支座
A54: 416-2-2 | B54: 圆形板式橡胶组合支座（按个分型号计）
A55: 416-2-2-1 | B55: GYZ 450*99 | C55: 个
A56: 416-2-2-2 | B56: GYZ 500*110 | C56: 个
A57: 416-2-2-3 | B57: GYZ 350*450*99 | C57: 个 | D57: 16.000 | F57: =D57*E57 -> 0
A58: 416-2-2-4 | B58: GBZJ 400*450*99 | C58: 个 | D58: 10.000 | F58: =D58*E58 -> 0
A59: 417-3 | B59: 梳齿板式伸缩装置
A60: 417-3-1 | B60: 伸缩量80mm | C60: m | D60: 249.900 | F60: =D60*E60 -> 0
A61: 417-3-3 | B61: 伸缩量120mm | C61: m
A62: 418-1 | B62: 排水管
A63: 418-1-2 | B63: PVC-U管
A64: 418-1-2-3 | B64: 直径φ150mmPVC-U管 | C64: m | D64: 1809.800 | F64: =D64*E64 -> 0
A65: 418-2 | B65: 桥面排水构造物
A66: 418-2-2 | B66: 铸铁排水格栅 | C66: 个 | D66: 218.000 | F66: =D66*E66 -> 0
A67: 422 | B67: 涵洞及通道涵分部工程
A68: 422-1 | B68: 涵基开挖 | C68: m3 | D68: 29765.500 | F68: =D68*E68 -> 0
A69: 422-2 | B69: 涵洞基础垫层
A70: 422-2-1 | B70: 砂砾垫层 | C70: m3 | D70: 2071.740 | F70: =D70*E70 -> 0
A71: 422-2-2 | B71: 碎石垫层 | C71: m3 | D71: 829.300 | F71: =D71*E71 -> 0
A72: 422-3 | B72: 涵管、涵身混凝土基础
A73: 422-3-2 | B73: C20混凝土 | C73: m3 | D73: 197.600 | F73: =D73*E73 -> 0
A74: 422-3-3 | B74: C25混凝土 | C74: m3 | D74: 1853.100 | F74: =D74*E74 -> 0
A75: 422-3-4 | B75: C30混凝土 | C75: m3 | D75: 4634.150 | F75: =D75*E75 -> 0
A76: 422-5 | B76: 基础钢筋 | C76: kg | D76: 289681.370 | F76: =D76*E76 -> 0
A77: 422-6 | B77: 涵洞洞口基础
A78: 422-6-1 | B78: 洞口混凝土基础
A79: 422-6-1-3 | B79: C20混凝土 | C79: m3 | D79: 24.500 | F79: =D79*E79 -> 0
A80: 422-6-1-4 | B80: C25混凝土 | C80: m3 | D80: 656.380 | F80: =D80*E80 -> 0
A81: 422-7 | B81: 涵洞洞口墙身
A82: 422-7-1 | B82: 洞口混凝土墙身
A83: 422-7-1-3 | B83: C20混凝土 | C83: m3 | D83: 1445.700 | F83: =D83*E83 -> 0
A84: 422-7-1-4 | B84: C25混凝土 | C84: m3 | D84: 935.170 | F84: =D84*E84 -> 0
A85: 422-8 | B85: 涵洞洞口、洞内铺砌及截水墙
A86: 422-8-1 | B86: 混凝土铺砌及截水墙
A87: 422-8-1-4 | B87: C25混凝土 | C87: m3 | D87: 570.660 | F87: =D87*E87 -> 0
A88: 422-9 | B88: 预制安装运输混凝土圆管
A89: 422-9-4 | B89: 预制、运输、安装混凝土圆管
A90: 422-9-4-1 | B90: 钢筋 | C90: kg | D90: 48523.200 | F90: =D90*E90 -> 0
A91: 422-9-4-7 | B91: C40混凝土 | C91: m3 | D91: 716.200 | F91: =D91*E91 -> 0
A92: 422-10 | B92: 盖板涵涵身
A93: 422-10-1 | B93: 混凝土涵身
A94: 422-10-1-1 | B94: 涵身钢筋 | C94: kg | D94: 36212.400 | F94: =D94*E94 -> 0
A95: 422-10-1-5 | B95: C30混凝土 | C95: m3 | D95: 4228.100 | F95: =D95*E95 -> 0
A96: 422-11 | B96: 盖板涵盖板
A97: 422-11-2 | B97: 预制安装混凝土盖板
A98: 422-11-2-4 | B98: 预制、安装、运输盖板
A99: 422-11-2-4-1 | B99: 钢筋 | C99: kg | D99: 329941.700 | F99: =D99*E99 -> 0
A100: 422-11-2-4-6 | B100: C35混凝土 | C100: m3 | D100: 2359.500 | F100: =D100*E100 -> 0
...

Sheet 第600章
A1: 工程量清单
A2: 建设项目名称: 茂名市荔枝国家现代农业产业园电白园区 (一期 )配套建设项目 (第二段 )
A3: 编制范围: 贡园大道K1+260~RK13+140（不含涉铁段）、荔枝大道HK0+066.6~HK3+349.95
A4: 工程量清单 第600章 交通安全设施
A5: 子目号 | B5: 子 目 名 称 | C5: 单位 | D5: 数量 | E5: 单价(元) | F5: 合价(元)
A6: 602-1 | B6: 混凝土护栏
A7: 602-1-1 | B7: 现浇混凝土护栏
A8: 602-1-1-1 | B8: 护栏现浇混凝土钢筋 | C8: kg | D8: 95789.900 | F8: =D8*E8 -> 0
A9: 602-1-1-4 | B9: C30现浇混凝土 | C9: m3 | D9: 616.200 | F9: =D9*E9 -> 0
A10: 602-2 | B10: 单面波形梁钢护栏
A11: 602-2-1 | B11: 路侧单面波形梁钢护栏
A12: 602-2-1-7 | B12: Gr-SB-2E | C12: m | D12: 33483.000 | F12: =D12*E12 -> 0
A13: 602-2-1-10 | B13: Gr-SB-2C | C13: m | D13: 212.000 | F13: =D13*E13 -> 0
A14: 602-4 | B14: 过渡段波形梁钢护栏
A15: 602-4-1 | B15: BT-1-1 | C15: m | D15: 588.000 | F15: =D15*E15 -> 0
A16: 602-4-10 | B16: AT1-1 | C16: m | D16: 1005.000 | F16: =D16*E16 -> 0
A17: 602-4-11 | B17: Dm | C17: 个 | D17: 47.000 | F17: =D17*E17 -> 0
A18: 602-5 | B18: 活动式护栏
A19: 602-5-1 | B19: 活动式钢护栏
A20: 602-5-1 | B20: 活动式钢护栏 | C20: m | D20: 30.000 | F20: =D20*E20 -> 0
A21: 602-5-1-1 | B21: L=50m | C21: m
A22: 602-6 | B22: 波形梁钢护栏起、终端头
A23: 602-6-1 | B23: 分设型圆头式端头
A24: 602-6-1-1 | B24: AT2 | C24: 个 | D24: 67.000 | F24: =D24*E24 -> 0
A25: 603-5 | B25: 桥上防护网
A26: 603-5-1 | B26: 桥上防护网（22*60*2.5*2.5） | C26: m | D26: 200.000 | F26: =D26*E26 -> 0
A27: 604-1 | B27: 单柱式交通标志
A28: 604-1-1 | B28: 800*800mm+800*300mm矩形标志牌（Φ114*6*3900mm立柱） | C28: 座 | D28: 3.000 | F28: =D28*E28 -> 0
A29: 604-1-2 | B29: 1000*1000mm+1000*300mm矩形标志牌（Φ114*6*4100mm立柱） | C29: 座 | D29: 6.000 | F29: =D29*E29 -> 0
A30: 604-1-3 | B30: 900mm正三角标志牌（Φ114*4.5*3400mm立柱） | C30: 座 | D30: 14.000 | F30: =D30*E30 -> 0
A31: 604-1-4 | B31: 1100mm三角标志牌（Φ114*4.5*3550mm立柱） | C31: 座 | D31: 7.000 | F31: =D31*E31 -> 0
A32: 604-1-5 | B32: 2*1100mm三角标志牌（Φ140*6*4563mm立柱） | C32: 座 | D32: 7.000 | F32: =D32*E32 -> 0
A33: 604-1-6 | B33: 600mm圆形标志牌（Φ114*4.5*3500mm立柱） | C33: 座 | D33: 2.000 | F33: =D33*E33 -> 0
A34: 604-1-7 | B34: 800mm圆形标志牌（Φ114*4.5*3500mm立柱） | C34: 座 | D34: 13.000 | F34: =D34*E34 -> 0
A35: 604-1-8 | B35: 1000mm圆形标志牌（Φ114*4.5*3700mm立柱） | C35: 座 | D35: 15.000 | F35: =D35*E35 -> 0
A36: 604-1-9 | B36: 2*800mm圆形标志牌（Φ114*4.5*3500mm立柱） | C36: 座 | D36: 5.000 | F36: =D36*E36 -> 0
A37: 604-1-10 | B37: 2*1000mm圆形标志牌（Φ140*6*3500mm立柱） | C37: 座 | D37: 5.000 | F37: =D37*E37 -> 0
A38: 604-1-11 | B38: 800mm八角形标志牌（Φ114*4.5*3439mm立柱） | C38: 座 | D38: 38.000 | F38: =D38*E38 -> 0
A39: 604-1-12 | B39: 800*800mm矩形标志牌（双面，Φ114*4.5*3700mm立柱） | C39: 座 | D39: 8.000 | F39: =D39*E39 -> 0
... A41: 604-1-14 | B41: 1000*2000mm矩形标志牌（Φ140*6*4700mm立柱） | C41: 座 | D41: 9.000 | F41: =D41*E41 -> 0
A42: 604-5 | B42: 单悬臂式交通标志
A43: 604-5-1 | B43: 900mm正三角标志牌（Φ168*6*6100mm立柱） | C43: 座 | D43: 9.000 | F43: =D43*E43 -> 0
A44: 604-5-2 | B44: 1100mm三角标志牌（Φ168*6*6100mm立柱） | C44: 座 | D44: 3.000 | F44: =D44*E44 -> 0
A45: 604-5-3 | B45: 2*900mm正三角标志牌（Φ168*10*6100mm立柱） | C45: 座 | D45: 4.000 | F45: =D45*E45 -> 0
A46: 604-5-4 | B46: 2*1100mm三角标志牌（Φ168*10*6100mm立柱） | C46: 座 | D46: 7.000 | F46: =D46*E46 -> 0
A47: 604-5-5 | B47: 800mm圆形标志牌（Φ168*6*6100mm立柱） | C47: 座 | D47: 7.000 | F47: =D47*E47 -> 0
A48: 604-5-6 | B48: 1000mm圆形标志牌（Φ168*6*6100mm立柱） | C48: 座 | D48: 11.000 | F48: =D48*E48 -> 0
A49: 604-5-7 | B49: 2*800mm圆形标志牌（Φ168*10*6100mm立柱） | C49: 座 | D49: 1.000 | F49: =D49*E49 -> 0
A50: 604-5-8 | B50: 2*1000mm圆形标志牌（Φ168*10*6100mm立柱） | C50: 座 | D50: 1.000 | F50: =D50*E50 -> 0
A51: 604-5-9 | B51: 2500*1000mm矩形板面（Φ273*10*6500mm立柱） | C51: 座 | D51: 7.000 | F51: =D51*E51 -> 0
A52: 604-5-10 | B52: 4500*3000mm矩形板面（Φ426*14*8500mm立柱） | C52: 座 | D52: 4.000 | F52: =D52*E52 -> 0
A53: 604-5-11 | B53: 4500*2450mm矩形板面（Φ426*14*7950mm立柱） | C53: 座 | D53: 8.000 | F53: =D53*E53 -> 0
A54: 604-5-12 | B54: 4500*2700mm矩形板面（Φ426*14*8200mm立柱） | C54: 座 | D54: 2.000 | F54: =D54*E54 -> 0
... A58: 604-5-16 | B58: 5000*3000mm矩形板面（Φ426*14*8500mm立柱） | C58: 座 | D58: 4.000 | F58: =D58*E58 -> 0
A59: 604-7 | B59: 悬挂（附着）式交通标志
A60: 604-7-1 | B60: 800mm圆形标志牌 | C60: 个 | D60: 10.000 | F60: =D60*E60 -> 0
A61: 604-7-2 | B61: 1000mm圆形标志牌 | C61: 个 | D61: 8.000 | F61: =D61*E61 -> 0
A62: 604-7-3 | B62: 1000mm圆形+1000*300mm矩形标志牌 | C62: 个 | D62: 1.000 | F62: =D62*E62 -> 0
A63: 604-7-4 | B63: 530*340mm矩形标志牌（无图纸） | C63: 个 | D63: 12.000 | F63: =D63*E63 -> 0
A64: 604-8 | B64: 里程标 | C64: 个 | D64: 16.000 | F64: =D64*E64 -> 0
A65: 604-9 | B65: 公路界碑 | C65: 个 | D65: 154.000 | F65: =D65*E65 -> 0
A66: 604-10 | B66: 百米标 | C66: 个 | D66: 153.000 | F66: =D66*E66 -> 0
A67: 604-11 | B67: 防撞桶
A68: 604-11-3 | B68: 防撞桶 | C68: 个
A69: 604-14 | B69: 道口标柱 | C69: 套 | D69: 172.000 | F69: =D69*E69 -> 0
A70: 604-15 | B70: 限高架
A71: 604-15-1 | B71: B*H=17.5*5m | C71: 座 | D71: 4.000 | F71: =D71*E71 -> 0
A72: 604-15-2 | B72: B*H=8*4m | C72: 座 | D72: 1.000 | F72: =D72*E72 -> 0
A73: 605-1 | B73: 热熔型涂料路面标线
A74: 605-1-1 | B74: 普通型 | C74: m2 | D74: 6916.800 | F74: =D74*E74 -> 0
A75: 605-1-4 | B75: 振动 | C75: m2 | D75: 12543.000 | F75: =D75*E75 -> 0
A76: 605-7 | B76: 突起路标
A77: 605-7-1 | B77: 单面反光突起路标 | C77: 个 | D77: 3634.000 | F77: =D77*E77 -> 0
A78: 605-8 | B78: 轮廓标
A79: 605-8-2 | B79: 附着式轮廓标
A80: 605-8-2-1 | B80: De-Rb-At1 | C80: 个 | D80: 807.000 | F80: =D80*E80 -> 0
A81: 605-8-2-2 | B81: De-Rb-At2 | C81: 个 | D81: 46.000 | F81: =D81*E81 -> 0
A82: 605-8-2-3 | B82: DE-Rb-E | C82: 个 | D82: 278.000 | F82: =D82*E82 -> 0
A83: 605-9 | B83: 立面标记
A84: 605-9-1 | B84: 反光立面标记 | C84: m2 | D84: 308.000 | F84: =D84*E84 -> 0
B85: 清单 第 600 章合计 人民币 | E85: =SUM(F6:F84) -> 0

Sheet 第700章
A1: 工程量清单
A2: 建设项目名称: 茂名市荔枝国家现代农业产业园电白园区 (一期 )配套建设项目 (第二段 )
A3: 编制范围: 贡园大道K1+260~RK13+140（不含涉铁段）、荔枝大道HK0+066.6~HK3+349.95
A4: 工程量清单 第700章 绿化及环境保护设施
A5: 子目号 | B5: 子 目 名 称 | C5: 单位 | D5: 数量 | E5: 单价(元) | F5: 合价(元)
A6: 702 | B6: 铺设表土
A7: 702-1 | B7: 开挖并回填表土 | C7: m3 | D7: 32300.000 | F7: =D7*E7 -> 0
A8: 702-3 | B8: 种植土 | C8: m3 | D8: 27618.111 | F8: =D8*E8 -> 0
A9: 703 | B9: 撒播草种和铺植草皮
A10: 703-1 | B10: 撒播草种 | C10: m2 | D10: 194294.800 | F10: =D10*E10 -> 0
A11: 703-2 | B11: 铺植草皮-马尼拉草 | C11: m2 | D11: 9709.000 | F11: =D11*E11 -> 0
A12: 704-1 | B12: 人工种植乔木
A13: 704-1-8 | B13: 胸径7cm～9cm以内乔木
A14: 704-1-8-1 | B14: 四季桂B（胸径φ7-8cm，H=2.0-2.5m，P=2.0-2.5m） | C14: 株 | D14: 78.000 | F14: =D14*E14 -> 0
A15: 704-1-10 | B15: 胸径12cm～15cm以内乔木
A16: 704-1-10-1 | B16: 美丽异木棉（胸径φ14-15cm，H=5.0-5.5m，P=3.0-3.5m） | C16: 株 | D16: 470.000 | F16: =D16*E16 -> 0
A17: 704-1-10-2 | B17: 麻楝（胸径φ14-15cm，H=5.0-5.5m，P=3.0-3.5m） | C17: 株 | D17: 389.000 | F17: =D17*E17 -> 0
A18: 704-1-10-3 | B18: 香樟B（胸径φ13-14cm，H=5.0-5.5m，P=3.0-3.5m） | C18: 株 | D18: 7.000 | F18: =D18*E18 -> 0
A19: 704-1-10-4 | B19: 秋枫（胸径φ13-14cm，H=5.0-5.5m，P=3.0-3.5m） | C19: 株 | D19: 2434.000 | F19: =D19*E19 -> 0
A20: 704-1-11 | B20: 胸径大于15cm以内乔木
A21: 704-1-11-1 | B21: 香樟A（胸径φ17-18cm，H=7.0-7.5m，P=5m） | C21: 株 | D21: 17.000 | F21: =D21*E21 -> 0
A22: 704-1-11-2 | B22: 凤凰木A（胸径φ17-18cm，H=6.0-6.5m，P=4.0-4.5m） | C22: 株 | D22: 22.000 | F22: =D22*E22 -> 0
A23: 704-2 | B23: 人工种植灌木
A24: 704-2-3 | B24: 冠幅80～120cm以内
A25: 704-2-3-1 | B25: 红车（H=150-180cm，P=80-100cm） | C25: 株 | D25: 31.000 | F25: =D25*E25 -> 0
A26: 704-2-3-2 | B26: 银姬小腊B（H=120cm，P=120cm） | C26: 株 | D26: 41.000 | F26: =D26*E26 -> 0
A27: 704-2-3-3 | B27: 苏铁A（H=40-50cm，P=100-120cm） | C27: 株 | D27: 18.000 | F27: =D27*E27 -> 0
A28: 704-2-3-4 | B28: 苏铁B（H=35-40cm，P=80-100cm） | C28: 株 | D28: 20.000 | F28: =D28*E28 -> 0
A29: 704-2-4 | B29: 冠幅120～150cm以内
A30: 704-2-4-1 | B30: 彩叶扶桑球（H=150cm，P=150cm） | C30: 株 | D30: 26.000 | F30: =D30*E30 -> 0
A31: 704-2-4-2 | B31: 海桐球（H=150cm，P=150cm） | C31: 株 | D31: 82.000 | F31: =D31*E31 -> 0
A32: 704-2-4-3 | B32: 红花继木A（H=150cm，P=150cm） | C32: 株 | D32: 67.000 | F32: =D32*E32 -> 0
A33: 704-2-4-4 | B33: 银姬小腊A（H=150cm，P=150cm） | C33: 株 | D33: 69.000 | F33: =D33*E33 -> 0
A34: 704-2-4-5 | B34: 黄榕球（H=150cm，P=150cm） | C34: 株 | D34: 696.000 | F34: =D34*E34 -> 0
A35: 704-2-4-6 | B35: 灰莉球（H=150cm，P=150cm） | C35: 株 | D35: 37.000 | F35: =D35*E35 -> 0
A36: 704-2-5 | B36: 冠幅大于150cm
A37: 704-2-5-1 | B37: 丛生紫薇（H=2.5-2.8m，P=2.0-2.5m，不少于5杆） | C37: 丛 | D37: 59.000 | F37: =D37*E37 -> 0
A38: 704-2-5-2 | B38: 勒杜鹃桩（H≥2.3m，P=1.5-1.8m） | C38: 株 | D38: 2.000 | F38: =D38*E38 -> 0
A39: 704-2-5-3 | B39: 小叶榕桩B（H≥2.3m，P=1.5-1.8m） | C39: 株 | D39: 8.000 | F39: =D39*E39 -> 0
A40: 704-2-5-4 | B40: 红花继木桩（H≥2.3m，P=1.5-1.8m） | C40: 株 | D40: 5.000 | F40: =D40*E40 -> 0
A41: 704-2-5-5 | B41: 鸡蛋花（H=2.0-2.5m，P=2.0-2.5m） | C41: 株 | D41: 37.000 | F41: =D41*E41 -> 0
A42: 704-3 | B42: 人工种植花卉及攀缘植物
A43: 704-3-1 | B43: 粉花翠芦莉（H=15-20cm，P=10-15cm，81株/m2） | C43: m2 | D43: 3780.000 | F43: =D43*E43 -> 0
A44: 704-3-2 | B44: 细叶萼距花（H=25-30cm，P=20-25cm，49株/m2） | C44: m2 | D44: 623.000 | F44: =D44*E44 -> 0
A45: 704-3-3 | B45: 毛鹃（H=25-30cm，P=20-25cm，49株/m2） | C45: m2 | D45: 9378.000 | F45: =D45*E45 -> 0
A46: 704-3-4 | B46: 龟甲冬青（H=25-30cm，P=20-25cm，49株/m2） | C46: m2 | D46: 3018.000 | F46: =D46*E46 -> 0
A47: 704-3-5 | B47: 红花檵木（H=31-35cm，P=26-30cm，49株/m2） | C47: m2 | D47: 286.000 | F47: =D47*E47 -> 0
A48: 704-3-6 | B48: 黄金榕（H=36-40cm，P=31-35cm，36株/m2） | C48: m2 | D48: 887.000 | F48: =D48*E48 -> 0
A49: 704-3-7 | B49: 小叶龙船花（H=26-30cm，P=21-25cm，49株/m2） | C49: m2 | D49: 4946.000 | F49: =D49*E49 -> 0
A50: 704-3-8 | B50: 鸭脚木（H=31-35cm，P=26-30cm，36株/m2） | C50: m2 | D50: 1573.000 | F50: =D50*E50 -> 0
A51: 704-3-9 | B51: 朱槿（H=36-40cm，P=31-35cm，36株/m2） | C51: m2 | D51: 534.000 | F51: =D51*E51 -> 0
A52: 704-3-10 | B52: 彩霞变叶木（H=36-40cm，P=21-25cm，49株/m2） | C52: m2 | D52: 35.000 | F52: =D52*E52 -> 0
A53: 704-3-11 | B53: 九里香（H=35-40cm，P=31-35，36株/m2） | C53: m2 | D53: 75.000 | F53: =D53*E53 -> 0
A54: 704-3-12 | B54: 勒杜鹃（H=36-40cm，P=31-35cm，36株/m2） | C54: m2 | D54: 2267.000 | F54: =D54*E54 -> 0
... A60: 704-3-18 | B60: 翠芦莉（H=15-20cm，P=10-15cm，81株/m2） | C60: m2 | D60: 1854.000 | F60: =D60*E60 -> 0
A61: 707 | B61: 喷淋系统
A62: 707-1 | B62: 喷淋管道
A63: 707-1 | B63: 临时排水沟挖方 | C63: m3 | D63: 2736.000 | F63: =D63*E63 -> 0
A64: 707-1-1 | B64: 塑料给水管
A65: 707-1-1-1 | B65: 聚乙烯PE管
A66: 707-1-1-1-1 | B66: De20*2.3mm（立管） | C66: m | D66: 7563.000 | F66: =D66*E66 -> 0
A67: 707-1-1-1-2 | B67: De25*2.3mm | C67: m | D67: 2009.000 | F67: =D67*E67 -> 0
A68: 707-1-1-1-3 | B68: De32*3.0mm | C68: m | D68: 2053.000 | F68: =D68*E68 -> 0
A69: 707-1-1-1-4 | B69: De63*5.8mm | C69: m | D69: 6262.000 | F69: =D69*E69 -> 0
A70: 707-1-1-1-5 | B70: De90*8.2mm | C70: m | D70: 82.000 | F70: =D70*E70 -> 0
A71: 707-1-1-1-6 | B71: De110*10mm | C71: m | D71: 11468.000 | F71: =D71*E71 -> 0
A72: 707-1-1-1-7 | B72: 给水管件附件 | C72: 项 | D72: 1.000 | F72: =D72*E72 -> 0
A73: 707-1-2 | B73: 钢管保护管
A74: 707-1-2-1 | B74: 焊接钢管
A75: 707-1-2-1-1 | B75: D159*4.5mm | C75: m | D75: 445.000 | F75: =D75*E75 -> 0
A76: 707-1-2-1-2 | B76: D89*4mm | C76: m | D76: 100.000 | F76: =D76*E76 -> 0
A77: 707-1-3 | B77: 系统配件
A78: 707-1-3-1 | B78: 快速式取水阀（含快速取水器、阀箱及阀） | C78: 套 | D78: 226.000 | F78: =D78*E78 -> 0
A79: 707-1-3-2 | B79: 360°水雾式塑料微喷头 De25 | C79: 个 | D79: 3661.000 | F79: =D79*E79 -> 0
A80: 707-1-3-3 | B80: 360°散射式塑料微喷头 De25 | C80: 个 | D80: 489.000 | F80: =D80*E80 -> 0
A81: 707-1-3-4 | B81: 180°散射式塑料微喷头 De25 | C81: 个 | D81: 200.000 | F81: =D81*E81 -> 0
A82: 707-1-3-5 | B82: 电磁阀 De90 | C82: 个 | D82: 47.000 | F82: =D82*E82 -> 0
A83: 707-1-3-6 | B83: 闸阀 De110 | C83: 个 | D83: 5.000 | F83: =D83*E83 -> 0
A84: 707-1-3-7 | B84: 闸阀 De90 | C84: 个 | D84: 47.000 | F84: =D84*E84 -> 0
A85: 707-1-3-8 | B85: 塑钢方形阀箱 600*500*400mm | C85: 个 | D85: 52.000 | F85: =D85*E85 -> 0
A86: 707-2 | B86: 隔声窗 | C86: m2 | D86: 4256.000 | F86: =D86*E86 -> 0
A87: 709 | B87: 附属摆件
A88: 709-1 | B88: 英石景石 L*B*H:（80-100）*（50-80）*（50-80）cm | C88: 块 | D88: 31.000 | F88: =D88*E88 -> 0
A89: 709-2 | B89: 英石景石 L*B*H:（50-80）*（30-50）*（30-50）cm | C89: 块 | D89: 18.000 | F89: =D89*E89 -> 0
B90: 清单 第 700 章合计 人民币 | E90: =SUM(F7:F89) -> 0

Sheet 第800章
A1: 工程量清单
A2: 建设项目名称: 茂名市荔枝国家现代农业产业园电白园区 (一期 )配套建设项目 (第二段 )
A3: 编制范围: 贡园大道K1+260~RK13+140（不含涉铁段）、荔枝大道HK0+066.6~HK3+349.95
A4: 工程量清单 第800章 机电工程
A5: 子目号 | B5: 子 目 名 称 | C5: 单位 | D5: 数量 | E5: 单价(元) | F5: 合价(元)
A6: 803 | B6: 通信系统
A7: 803-5 | B7: 交换机
A8: 803-5-1 | B8: 工业以太网交换机（2光4电）-不含设备费 | C8: 台 | D8: 34.000 | F8: =D8*E8 -> 0
A9: 803-5-1-1 | B9: 工业以太网交换机（2光4电）-设备暂估价 | C9: 台 | D9: 34.000 | F9: =D9*E9 -> 0
A10: 803-5-2 | B10: 工业以太网交换机（2光8电）-不含设备费 | C10: 台 | D10: 16.000 | F10: =D10*E10 -> 0
A11: 803-5-2-1 | B11: 工业以太网交换机（2光8电）-设备暂估价 | C11: 台 | D11: 16.000 | F11: =D11*E11 -> 0
A12: 803-5-3 | B12: 工业以太网交换机（2光16电）-不含设备费 | C12: 台 | D12: 4.000 | F12: =D12*E12 -> 0
A13: 803-5-3-1 | B13: 工业以太网交换机（2光16电）-设备暂估价 | C13: 台 | D13: 4.000 | F13: =D13*E13 -> 0
A14: 803-7 | B14: 光缆
A15: 803-7-1 | B15: 单模光缆
A16: 803-7-1-1 | B16: 12芯以内
A17: 803-7-1-1-1 | B17: 网络线 | C17: m | D17: 2285.000 | F17: =D17*E17 -> 0
A18: 803-7-2 | B18: 多模光缆
A19: 803-7-2-1 | B19: 12芯以内
A20: 803-7-2-1-1 | B20: 多模光纤 | C20: m | D20: 2140.000 | F20: =D20*E20 -> 0
A21: 803-9 | B21: 光缆接头盒、终端盒 | C21: 个 | D21: 4.000 | F21: =D21*E21 -> 0
A22: 804 | B22: 监控系统
A23: 804-1 | B23: 信息标志
A24: 804-1-5 | B24: 交通信号灯
A25: 804-1-5-1 | B25: 机动车信号灯（LED多功能三位灯φ400）-不含设备费 | C25: 套 | D25: 5.000 | F25: =D25*E25 -> 0
A26: 804-1-5-1-1 | B26: 机动车信号灯（LED多功能三位灯φ400）-设备暂估价 | C26: 套 | D26: 5.000 | F26: =D26*E26 -> 0
A27: 804-1-5-2 | B27: 机动车信号灯（满屏三位灯φ400）-不含设备费 | C27: 套 | D27: 17.000 | F27: =D27*E27 -> 0
A28: 804-1-5-2-1 | B28: 机动车信号灯（满屏三位灯φ400）-设备暂估价 | C28: 套 | D28: 17.000 | F28: =D28*E28 -> 0
A29: 804-1-5-3 | B29: 机动车信号灯杆（6m悬臂杆） | C29: 套 | D29: 5.000 | F29: =D29*E29 -> 0
A30: 804-1-5-4 | B30: 机动车信号灯杆（8m悬臂杆） | C30: 套 | D30: 9.000 | F30: =D30*E30 -> 0
A31: 804-1-5-5 | B31: 人机共杆信号灯杆（5m立柱） | C31: 套 | D31: 2.000 | F31: =D31*E31 -> 0
A32: 804-1-5-6 | B32: 机动车信号灯杆（5m立柱） | C32: 套 | D32: 1.000 | F32: =D32*E32 -> 0
A33: 804-1-5-7 | B33: 人行信号灯（二位灯φ300）-不含设备费 | C33: 套 | D33: 46.000 | F33: =D33*E33 -> 0
A34: 804-1-5-7-1 | B34: 人行信号灯（二位灯φ300）-设备暂估价 | C34: 套 | D34: 46.000 | F34: =D34*E34 -> 0
A35: 804-1-5-8 | B35: 人行信号灯杆（3.5m立柱） | C35: 套 | D35: 30.000 | F35: =D35*E35 -> 0
A36: 804-3 | B36: 视频监控设施
A37: 804-3-7 | B37: 高清抓拍摄像机-不含设备费 | C37: 套 | D37: 34.000 | F37: =D37*E37 -> 0
A38: 804-3-7-1 | B38: 高清抓拍摄像机-设备暂估价 | C38: 套 | D38: 34.000 | F38: =D38*E38 -> 0
A39: 804-3-8 | B39: 一体化球形摄像机-不含设备费 | C39: 套 | D39: 15.000 | F39: =D39*E39 -> 0
A40: 804-3-8-1 | B40: 一体化球形摄像机-设备暂估价 | C40: 套 | D40: 15.000 | F40: =D40*E40 -> 0
A41: 804-3-9 | B41: LED频闪灯-不含设备费 | C41: 套 | D41: 76.000 | F41: =D41*E41 -> 0
A42: 804-3-9-1 | B42: LED频闪灯-设备暂估价 | C42: 套 | D42: 76.000 | F42: =D42*E42 -> 0
A43: 804-3-10 | B43: 电子警察悬臂杆（H=6.5m，L=6m） | C43: 套 | D43: 3.000 | F43: =D43*E43 -> 0
A44: 804-3-11 | B44: 电子警察悬臂杆（H=6.5m，L=8m） | C44: 套 | D44: 5.000 | F44: =D44*E44 -> 0
A45: 804-3-12 | B45: 电子警察悬臂杆（H=6.5m，L=10m） | C45: 套 | D45: 1.000 | F45: =D45*E45 -> 0
A46: 804-3-13 | B46: 电子警察悬臂杆（H=6.5m，L=12m） | C46: 套 | D46: 6.000 | F46: =D46*E46 -> 0
A47: 804-3-14 | B47: 电子警察悬臂杆（H=6.5m，L=16m） | C47: 套
A48: 804-5 | B48: 车辆检测设施
A49: 804-5-6 | B49: 雷达车辆检测器-不含设备费 | C49: 套 | D49: 15.000 | F49: =D49*E49 -> 0
A50: 804-5-6-1 | B50: 雷达车辆检测器-设备暂估价 | C50: 套 | D50: 15.000 | F50: =D50*E50 -> 0
A51: 804-11 | B51: 计算机及网络设备
A52: 804-11-1 | B52: 网络服务器-不含设备费 | C52: 台 | D52: 8.000 | F52: =D52*E52 -> 0
A53: 804-11-1-1 | B53: 网络服务器-设备暂估价 | C53: 台 | D53: 8.000 | F53: =D53*E53 -> 0
A54: 804-11-8 | B54: 光纤收发器-不含设备费 | C54: 台 | D54: 34.000 | F54: =D54*E54 -> 0
A55: 804-11-8-1 | B55: 光纤收发器-设备暂估价 | C55: 台 | D55: 34.000 | F55: =D55*E55 -> 0
A56: 804-11-9 | B56: 计量电表-不含设备费 | C56: 套 | D56: 4.000 | F56: =D56*E56 -> 0
A57: 804-11-9-1 | B57: 计量电表-设备暂估价 | C57: 套 | D57: 4.000 | F57: =D57*E57 -> 0
A58: 807 | B58: 供配电照明系统
A59: 807-2 | B59: 变压器
A60: 807-2-3 | B60: 组合式路灯箱变 160KVA-不含设备费 | C60: 台 | D60: 10.000 | F60: =D60*E60 -> 0
A61: 807-2-3-1 | B61: 组合式路灯箱变 160KVA-设备暂估价 | C61: 台 | D61: 10.000 | F61: =D61*E61 -> 0
A62: 807-3 | B62: 低压配电装置
A63: 807-3-3 | B63: 控制箱
A64: 807-3-3-1 | B64: 落地式监控机箱-不含设备费 | C64: 台 | D64: 4.000 | F64: =D64*E64 -> 0
A65: 807-3-3-1-1 | B65: 落地式监控机箱-设备暂估价 | C65: 台 | D65: 4.000 | F65: =D65*E65 -> 0
A66: 807-3-3-2 | B66: 挂杆式设备箱-设备暂估价 | C66: 个 | D66: 52.000 | F66: =D66*E66 -> 0
A67: 807-3-3-2-1 | B67: 挂杆式设备箱-设备暂估价 | C67: 个 | D67: 8.000 | F67: =D67*E67 -> 0
A68: 807-3-3-3 | B68: 配电箱-不含设备费 | C68: 台 | D68: 4.000 | F68: =D68*E68 -> 0
A69: 807-3-3-3-1 | B69: 配电箱-设备暂估价 | C69: 台 | D69: 4.000 | F69: =D69*E69 -> 0
A70: 807-3-3-4 | B70: 路灯控制箱（带GPRS公网无线监控终端）-不含设备费 | C70: 台 | D70: 10.000 | F70: =D70*E70 -> 0
A71: 807-3-3-4-1 | B71: 路灯控制箱（带GPRS公网无线监控终端）-设备暂估价 | C71: 台 | D71: 10.000 | F71: =D71*E71 -> 0
A72: 807-3-4 | B72: 机柜
A73: 807-3-4-1 | B73: 智能信号控制机-不含设备费 | C73: 台 | D73: 4.000 | F73: =D73*E73 -> 0
A74: 807-3-4-1-1 | B74: 智能信号控制机-设备暂估价 | C74: 台 | D74: 4.000 | F74: =D74*E74 -> 0
A75: 807-6 | B75: 路灯
A76: 807-6-2 | B76: 15m以内杆灯
A77: 807-6-2-1 | B77: 12m单臂路灯灯杆（200W LED灯） | C77: 套 | D77: 106.000 | F77: =D77*E77 -> 0
A78: 807-6-2-2 | B78: 12m单臂路灯灯杆（240W LED灯） | C78: 套 | D78: 108.000 | F78: =D78*E78 -> 0
A79: 807-6-2-3 | B79: 12m双臂路灯灯杆（2*240W LED灯） | C79: 套 | D79: 272.000 | F79: =D79*E79 -> 0
A80: 807-6-2-4 | B80: 13m投光灯灯杆（3*210W LED灯） | C80: 套 | D80: 36.000 | F80: =D80*E80 -> 0
A81: 807-8 | B81: 电缆
A82: 807-8-1 | B82: 电力电缆
A83: 807-8-1-1 | B83: 截面面积35mm2以内
A84: 807-8-1-1-1 | B84: RVV-3*2.5mm2 | C84: m | D84: 19076.000 | F84: =D84*E84 -> 0
A85: 807-8-1-1-2 | B85: RVV-3*4mm2 | C85: m | D85: 2759.000 | F85: =D85*E85 -> 0
A86: 807-8-1-3 | B86: 截面面积240mm2以内
A87: 807-8-1-3-1 | B87: YJV-1kV-5*25mm2 | C87: m | D87: 18295.000 | F87: =D87*E87 -> 0
A88: 807-8-1-4 | B88: 截面面积360mm2以内
A89: 807-8-1-4-1 | B89: YJV22-8.7/15kV-3*120mm2 | C89: m | D89: 13002.000 | F89: =D89*E89 -> 0
A90: 807-8-2 | B90: 控制电缆
A91: 807-8-2-1 | B91: 截面面积35mm2以内
A92: 807-8-2-1-1 | B92: YJV-1KV-5*10mm2 | C92: m | D92: 4520.000 | F92: =D92*E92 -> 0
A93: 807-8-2-1-2 | B93: KVV-5*2.5mm2 | C93: m | D93: 1926.000 | F93: =D93*E93 -> 0
A94: 807-8-2-1-3 | B94: KVV-4*2.5mm2 | C94: m | D94: 3025.000 | F94: =D94*E94 -> 0
A95: 807-11 | B95: 控制器
A96: 807-11-1 | B96: 单灯控制器 | C96: 个 | D96: 433.000 | F96: =D96*E96 -> 0
A97: 807-11-2 | B97: 单灯集中控制器 | C97: 个 | D97: 5.000 | F97: =D97*E97 -> 0
A98: 807-12 | B98: 结构设施
A99: 807-12-1 | B99: 大沙井800*600mm（内宽） | C99: 座 | D99: 57.000 | F99: =D99*E99 -> 0
A100: 807-12-2 | B100: 小沙井400*400mm（内宽） | C100: 座 | D100: 172.000 | F100: =D100*E100 -> 0
...
