Workbook

Sheet 投标报价汇总表
A1: 工程量清单汇总表
A2: 建设项目名称: 茂名市荔枝国家现代农业产业园电白园区 (一期 )配套建设项目 (第二段 )
A3: 编 制 范 围: 贡园大道K1+260~RK13+140（不含涉铁段）、荔枝大道HK0+066.6~HK3+349.95
A4: 序 号 | B4: 章 次 | C4: 科 目 名 称 | E4: 金额(元)
A5: 1 | B5: 第100章 | C5: 总则 | E5: =第100章!E41 -> 21210203
A6: 2 | B6: 第200章 | C6: 路基 | E6: =第200章!K110 -> 0
A7: 3 | B7: 第300章 | C7: 路面 | E7: =第300章!E74 -> 0
A8: 4 | B8: 第400章 | C8: 桥梁、涵洞工程 | E8: =第400章!E111 -> 0
A9: 5 | B9: 第500章 | C9: 隧道
A10: 6 | B10: 第600章 | C10: 交通安全设施 | E10: =第600章!E85 -> 0
A11: 7 | B11: 第700章 | C11: 绿化及环境保护设施 | E11: =第700章!E90 -> 0
A12: 8 | B12: 第800章 | C12: 机电工程 | E12: =第800章!E122 -> 0
A13: 9 | B13: 第900章 | C13: 附属区房建工程
A14: 10 | B14: 第100章至900章清单合计 | E14: =SUM(E5:E13) -> 21210203
A15: 11 | B15: 已包含在清单合计中的材料、工程设备、专业工程暂估价合计
A16: 12 | B16: 清单合计减去材料、工程设备、专业工程暂估价 合计(即10-11)=12 | E16: =E14-E15 -> 21210203
A17: 13 | B17: 计日工合计
A18: 14 | B18: 暂列金额(不含计日工总额) | E18: 23151832
A19: 15 | B19: 投标报价(10+13+14)=15 | E19: =E14+E17+E18 -> 44362035

Sheet 第100章
A1: 工程量清单
A2: 建设项目名称: 茂名市荔枝国家现代农业产业园电白园区 (一期 )配套建设项目 (第二段 )
A3: 编制范围: 贡园大道K1+260~RK13+140（不含涉铁段）、荔枝大道HK0+066.6~HK3+349.95
A4: 工程量清单 第100章 总则
A5: 子目号 | B5: 子 目 名 称 | C5: 单位 | D5: 数量 | E5: 单价(元) | F5: 合价(元)
A6: 102 | B6: 工程管理
A7: 102-3 | B7: 安全生产费 | C7: 总额 | D7: 1.000 | E7: 5732152 | F7: =D7*E7 -> 5732152
A8: 103-1 | B8: 临时道路、便桥工程
A9: 103-1-1 | B9: 临时道路修建、养护与拆除（包括原道路的养护费） | C9: 总额 | D9: 1.000 | E9: 3897712.00 | F9: =D9*E9 -> 3897712
A10: 103-1-2 | B10: 临时便桥修建、养护与拆除（包括原桥梁的养护费） | C10: 总额 | D10: 1.000 | E10: 889759.00 | F10: =D10*E10 -> 889759
A11: 103-3 | B11: 临时供电设施
A12: 103-3-1 | B12: 设施架设、拆除（架设输电线路） | C12: 总额 | D12: 2.000 | E12: 339785.50 | F12: =D12*E12 -> 679571
A13: 104 | B13: 承包人驻地建设
A14: 104-1 | B14: 承包人驻地建设 | C14: 总额 | D14: 1.000 | E14: 7309829.00 | F14: =D14*E14 -> 7309829
A15: 104-2 | B15: 拌和及预制场设施安拆 | C15: 总额 | D15: 1.000 | E15: 2701180.00 | F15: =D15*E15 -> 2701180
A16: 10403010101 | B16: 桩基础
A17: 10403010102 | B17: 系梁
A18: 10403010104 | B18: 冠梁
A19: 10403010201 | B19: 桥台 | C19: m3
A20: 10403010202 | B20: 桥墩 | C20: m3
A21: 10403010203 | B21: 盖梁 | C21: m3
A22: 10403020101 | B22: 桩基础
A23: 10403020103 | B23: 系梁
A24: 10403020201 | B24: 桥台
A25: 10403020202 | B25: 桥墩
A26: 10403020203 | B26: 盖梁
A27: 10403030101 | B27: 桩基础
A28: 10403030201 | B28: 桥台
A29: 10403040101 | B29: 桩基础 | C29: m3
A30: 10403040201 | B30: 桥台
A31: 10403050101 | B31: 桩基础
A32: 10403050201 | B32: 桥台
A33: 10404010101 | B33: 桩基础
A34: 10404010102 | B34: 承台
A35: 10404010103 | B35: 系梁
A36: 10404010201 | B36: 桥台
A37: 10404010202 | B37: 桥墩
A38: 10404010203 | B38: 盖梁
A39: 1060202020101 | B39: 桩基础
A40: 1060202020201 | B40: 桥台
...

Sheet 第200章
A1: 工程量清单
A2: 建设项目名称: 茂名市荔枝国家现代农业产业园电白园区 (一期 )配套建设项目 (第二段 )
A3: 编制范围: 贡园大道K1+260~RK13+140（不含涉铁段）、荔枝大道HK0+066.6~HK3+349.95
A4: 工程量清单 第200章 路基
A5: 子目号 | B5: 子 目 名 称 | C5: 单位 | D5: 数量 | E5: 单价(元) | F5: 合价(元)
A6: 202 | B6: 场地清理
A7: 202-1 | B7: 清理与掘除
A8: 202-1-1 | B8: 清理现场 | C8: m2 | D8: 569748.000 | F8: =D8*E8 -> 0
A9: 202-1-2 | B9: 砍伐树木 | C9: 棵 | D9: 20014.000 | F9: =D9*E9 -> 0
A10: 202-2 | B10: 挖除旧路面
A11: 202-2-1 | B11: 挖除水泥混凝土路面
A12: 202-2-1-1 | B12: 挖除不等厚的水泥混凝土路面 | C12: m3 | D12: 960.900 | F12: =D12*E12 -> 0
A13: 203-1 | B13: 路基挖方
A14: 203-1-1 | B14: 挖土方 | C14: m3 | D14: 451287.360 | F14: =D14*E14 -> 0
A15: 203-1-2 | B15: 挖石方 | C15: m3 | D15: 332245.400 | F15: =D15*E15 -> 0
A16: 203-1-3 | B16: 挖除非适用材料（不含淤泥） | C16: m3 | D16: 83014.800 | F16: =D16*E16 -> 0
A17: 203-1-4 | B17: 挖淤泥 | C17: m3 | D17: 33337.910 | F17: =D17*E17 -> 0
A18: 204-1 | B18: 路基填筑
A19: 204-1-2 | B19: 利用土方 | C19: m3 | D19: 316358.705 | F19: =D19*E19 -> 0
A20: 204-1-3 | B20: 利用石方 | C20: m3 | D20: 361136.300 | F20: =D20*E20 -> 0
A21: 204-1-5 | B21: 借土填方 | C21: m3 | D21: 881963.602 | F21: =D21*E21 -> 0
A22: 204-1-7 | B22: 结构物台背回填
A23: 204-1-7-1 | B23: 回填石屑 | C23: m3 | D23: 61559.800 | F23: =D23*E23 -> 0
A24: 204-1-7-6 | B24: 回填粘土 | C24: m3 | D24: 10082.200 | F24: =D24*E24 -> 0
A25: 204-1-8 | B25: 锥坡及台前溜坡填土 | C25: m3 | D25: 3431.700 | F25: =D25*E25 -> 0
A26: 204-1-10 | B26: 换填砂砾 | C26: m3 | D26: 148.500 | F26: =D26*E26 -> 0
A27: 204-1-11 | B27: 换填碎石 | C27: m3 | D27: 39284.100 | F27: =D27*E27 -> 0
A28: 204-1-14 | B28: 换填石屑 | C28: m3 | D28: 54868.015 | F28: =D28*E28 -> 0
A29: 204-1-15 | B29: 换填片石 | C29: m3 | D29: 28646.310 | F29: =D29*E29 -> 0
A30: 204-1-16 | B30: 粘土防水层 | C30: m3 | D30: 324.000 | F30: =D30*E30 -> 0
A31: 205-1 | B31: 软土地基处理
A32: 205-1-2 | B32: 软基垫层
A33: 205-1-2-2 | B33: 碎石垫层 | C33: m3 | D33: 4287.200 | F33: =D33*E33 -> 0
A34: 205-1-15 | B34: 土工格栅
A35: 205-1-15 | B35: 土工格栅 | C35: m2 | D35: 13645.900 | F35: =D35*E35 -> 0
A36: 205-1-15-2 | B36: 双向土工格栅 | C36: m2 | D36: 14290.700 | F36: =D36*E36 -> 0
A37: 205-1-19 | B37: 粉喷桩
A38: 205-1-19-3 | B38: φ500mm粉喷桩 | C38: m | D38: 45795.000 | F38: =D38*E38 -> 0
A39: 206-1 | B39: 整修路拱 | C39: km | D39: 14.580 | F39: =D39*E39 -> 0
A40: 206-2 | B40: 整修边坡 | C40: km | D40: 14.580 | F40: =D40*E40 -> 0
...

Sheet 第300章
A1: 工程量清单
A2: 建设项目名称: 茂名市荔枝国家现代农业产业园电白园区 (一期 )配套建设项目 (第二段 )
A3: 编制范围: 贡园大道K1+260~RK13+140（不含涉铁段）、荔枝大道HK0+066.6~HK3+349.95
A4: 工程量清单 第300章 路面
A5: 子目号 | B5: 子 目 名 称 | C5: 单位 | D5: 数量 | E5: 单价(元) | F5: 合价(元)
A6: 302-1 | B6: 垫层
A7: 302-1-1 | B7: 碎石垫层
A8: 302-1-1-1 | B8: 厚400mm以内 | C8: m2 | D8: 154046.220 | F8: =D8*E8 -> 0
A9: 302-1-1-2 | B9: 厚180mm | C9: m2 | D9: 28253.000 | F9: =D9*E9 -> 0
A10: 302-1-1-4 | B10: 厚300mm | C10: m2 | D10: 615.334 | F10: =D10*E10 -> 0
A11: 302-2 | B11: 垫层（按体积计）
A12: 302-2-1 | B12: 碎石垫层（按体积计） | C12: m3 | D12: 257.300 | F12: =D12*E12 -> 0
A13: 304 | B13: 水泥稳定土底基层、基层
A14: 304-1 | B14: 水泥稳定土底基层、基层
A15: 304-1-2 | B15: 4%水泥含量稳定土底基层、基层
A16: 304-1-2-1 | B16: 厚150mm水泥碎石 | C16: m2 | D16: 51058.000 | F16: =D16*E16 -> 0
A17: 304-1-2-2 | B17: 厚180mm水泥碎石 | C17: m2 | D17: 297195.000 | F17: =D17*E17 -> 0
A18: 304-1-3 | B18: 5%水泥含量稳定土底基层、基层
A19: 304-1-3-1 | B19: 厚150mm水泥碎石 | C19: m2 | D19: 686.434 | F19: =D19*E19 -> 0
A20: 304-1-3-2 | B20: 厚180mm水泥碎石 | C20: m2 | D20: 48691.000 | F20: =D20*E20 -> 0
A21: 304-1-3-3 | B21: 厚200mm水泥碎石 | C21: m2 | D21: 284455.000 | F21: =D21*E21 -> 0
A22: 304-1-4 | B22: 5-6%水泥含量稳定土底基层、基层
A23: 304-1-4-2 | B23: 厚180mm水泥稳定碎石 | C23: m2 | D23: 13999.400 | F23: =D23*E23 -> 0
A24: 304-2 | B24: 搭板、埋板下水泥稳定土底基层、基层
A25: 304-2-3 | B25: 4-5%水泥碎石 | C25: m3 | D25: 291.400 | F25: =D25*E25 -> 0
A26: 308-1 | B26: 透层
A27: 308-1-2 | B27: 透层（PC-2） | C27: m2 | D27: 315274.000 | F27: =D27*E27 -> 0
A28: 310-2 | B28: 封层
A29: 310-2-2 | B29: 乳化沥青封层 | C29: m2
A30: 310-2-3 | B30: 改性乳化沥青稀浆封层 | C30: m2 | D30: 315274.000 | F30: =D30*E30 -> 0
A31: 312-1 | B31: 普通水泥混凝土面板
A32: 312-1-2 | B32: 厚200mm以内面板 | C32: m2 | D32: 886.500 | F32: =D32*E32 -> 0
A33: 312-1-4 | B33: 厚200mm | C33: m2 | D33: 24411.900 | F33: =D33*E33 -> 0
A34: 312-1-8 | B34: 厚260mm面板 | C34: m2 | D34: 45807.000 | F34: =D34*E34 -> 0
A35: 312-1-10 | B35: 厚280mm | C35: m2 | D35: 269467.000 | F35: =D35*E35 -> 0
A36: 312-2 | B36: 混凝土路面钢筋
A37: 312-2-1 | B37: HPB300 | C37: kg | D37: 819041.000 | F37: =D37*E37 -> 0
A38: 312-2-2 | B38: HRB400 | C38: kg | D38: 270930.270 | F38: =D38*E38 -> 0
A39: 313 | B39: 培土路肩、中央分隔带填土、土路肩加固及路缘石
A40: 313-2 | B40: 中央分隔带回填土 | C40: m3 | D40: 264.000 | F40: =D40*E40 -> 0
...

Sheet 第400章
A1: 工程量清单
A2: 建设项目名称: 茂名市荔枝国家现代农业产业园电白园区 (一期 )配套建设项目 (第二段 )
A3: 编制范围: 贡园大道K1+260~RK13+140（不含涉铁段）、荔枝大道HK0+066.6~HK3+349.95
A4: 工程量清单 第400章 桥梁、涵洞工程
A5: 子目号 | B5: 子 目 名 称 | C5: 单位 | D5: 数量 | E5: 单价(元) | F5: 合价(元)
A6: 403-1 | B6: 基础钢筋（包括灌注桩、承台、支撑梁、基础系梁、沉桩、沉井等）
A7: 403-1-1 | B7: 光圆钢筋（HPB235、HPB300） | C7: kg | D7: 45654.200 | F7: =D7*E7 -> 0
A8: 403-1-2 | B8: 带肋钢筋（HRB335、HRB400） | C8: kg | D8: 459031.400 | F8: =D8*E8 -> 0
A9: 403-2 | B9: 下部结构钢筋（包括墩柱、台身、盖梁、墩间系梁、耳背墙等）
A10: 403-2-1 | B10: 光圆钢筋（HPB235、HPB300） | C10: kg | D10: 9099.500 | F10: =D10*E10 -> 0
A11: 403-2-2 | B11: 带肋钢筋（HRB335、HRB400） | C11: kg | D11: 535972.300 | F11: =D11*E11 -> 0
A12: 403-3 | B12: 上部结构钢筋（包括现浇、预制梁板、整体化层、桥面连续、绞缝、桥面铺装等） | F12: =D12*E12 -> 0
A13: 403-3-2 | B13: 带肋钢筋（HRB335、HRB400） | C13: kg | D13: 1701719.300 | F13: =D13*E13 -> 0
A14: 403-4 | B14: 附属结构钢筋（包括缘石、人行道、防撞墙、栏杆、护栏、桥头搭板、枕梁、抗震挡块、支座垫石等）
A15: 403-4-1 | B15: 光圆钢筋（HPB235、HPB300） | C15: kg | D15: 1149.100 | F15: =D15*E15 -> 0
A16: 403-4-2 | B16: 带肋钢筋（HRB335、HRB400） | C16: kg | D16: 418626.600 | F16: =D16*E16 -> 0
A17: 403-4-6 | B17: 钢遮板（Q235）/法兰盘 | C17: kg | D17: 1588.200 | F17: =D17*E17 -> 0
A18: 404-1 | B18: 干处挖土方 | C18: m3 | D18: 3825.300 | F18: =D18*E18 -> 0
A19: 405-1 | B19: 陆上钻孔灌注桩
A20: 405-1-1 | B20: 孔深60m以内的陆上钻孔灌注桩
A21: 405-1-1-1 | B21: 桩径80cm | C21: m | D21: 410.000 | F21: =D21*E21 -> 0
A22: 405-1-1-3 | B22: 桩径120cm | C22: m | D22: 878.000 | F22: =D22*E22 -> 0
A23: 405-1-1-5 | B23: 桩径140cm | C23: m | D23: 1092.000 | F23: =D23*E23 -> 0
A24: 405-1-1-7 | B24: 桩径160cm | C24: m | D24: 840.000 | F24: =D24*E24 -> 0
A25: 410-1 | B25: 混凝土基础（包括支撑梁、桩基承台、基础系梁，但不包括桩基和沉井）
A26: 410-1-2 | B26: C20混凝土 | C26: m3 | D26: 32.300 | F26: =D26*E26 -> 0
A27: 410-1-4 | B27: C30混凝土 | C27: m3 | D27: 351.400 | F27: =D27*E27 -> 0
A28: 410-1-5 | B28: C35混凝土 | C28: m3 | D28: 44.000 | F28: =D28*E28 -> 0
A29: 410-2 | B29: 混凝土下部结构（包括墩柱、台身、盖梁、系梁、耳背墙等）
A30: 410-2-4 | B30: C30混凝土 | C30: m3 | D30: 84.400 | F30: =D30*E30 -> 0
A31: 410-2-5 | B31: C35混凝土 | C31: m3 | D31: 483.000 | F31: =D31*E31 -> 0
A32: 410-2-6 | B32: C40混凝土 | C32: m3 | D32: 2591.000 | F32: =D32*E32 -> 0
A33: 410-3 | B33: 现浇混凝土上部结构
A34: 410-3-6 | B34: C40混凝土 | C34: m3 | D34: 718.000 | F34: =D34*E34 -> 0
A35: 410-3-8 | B35: C50混凝土 | C35: m3 | D35: 422.400 | F35: =D35*E35 -> 0
A36: 410-4-4-3 | B36: 预应力混凝土小箱梁 | C36: m3 | D36: 4680.800 | F36: =D36*E36 -> 0
A37: 410-6 | B37: 现浇混凝土附属结构
A38: 410-6-2 | B38: C20混凝土 | C38: m3 | D38: 5.300 | F38: =D38*E38 -> 0
A39: 410-6-3 | B39: C25混凝土 | C39: m3
A40: 410-6-4 | B40: C30混凝土 | C40: m3 | D40: 2018.200 | F40: =D40*E40 -> 0
...

Sheet 第600章
A1: 工程量清单
A2: 建设项目名称: 茂名市荔枝国家现代农业产业园电白园区 (一期 )配套建设项目 (第二段 )
A3: 编制范围: 贡园大道K1+260~RK13+140（不含涉铁段）、荔枝大道HK0+066.6~HK3+349.95
A4: 工程量清单 第600章 交通安全设施
A5: 子目号 | B5: 子 目 名 称 | C5: 单位 | D5: 数量 | E5: 单价(元) | F5: 合价(元)
A6: 602-1 | B6: 混凝土护栏
A7: 602-1-1 | B7: 现浇混凝土护栏
A8: 602-1-1-1 | B8: 护栏现浇混凝土钢筋 | C8: kg | D8: 95789.900 | F8: =D8*E8 -> 0
A9: 602-1-1-4 | B9: C30现浇混凝土 | C9: m3 | D9: 616.200 | F9: =D9*E9 -> 0
A10: 602-2 | B10: 单面波形梁钢护栏
A11: 602-2-1 | B11: 路侧单面波形梁钢护栏
A12: 602-2-1-7 | B12: Gr-SB-2E | C12: m | D12: 33483.000 | F12: =D12*E12 -> 0
A13: 602-2-1-10 | B13: Gr-SB-2C | C13: m | D13: 212.000 | F13: =D13*E13 -> 0
A14: 602-4 | B14: 过渡段波形梁钢护栏
A15: 602-4-1 | B15: BT-1-1 | C15: m | D15: 588.000 | F15: =D15*E15 -> 0
A16: 602-4-10 | B16: AT1-1 | C16: m | D16: 1005.000 | F16: =D16*E16 -> 0
A17: 602-4-11 | B17: Dm | C17: 个 | D17: 47.000 | F17: =D17*E17 -> 0
A18: 602-5 | B18: 活动式护栏
A19: 602-5-1 | B19: 活动式钢护栏
A20: 602-5-1 | B20: 活动式钢护栏 | C20: m | D20: 30.000 | F20: =D20*E20 -> 0
A21: 602-5-1-1 | B21: L=50m | C21: m
A22: 602-6 | B22: 波形梁钢护栏起、终端头
A23: 602-6-1 | B23: 分设型圆头式端头
A24: 602-6-1-1 | B24: AT2 | C24: 个 | D24: 67.000 | F24: =D24*E24 -> 0
A25: 603-5 | B25: 桥上防护网
A26: 603-5-1 | B26: 桥上防护网（22*60*2.5*2.5） | C26: m | D26: 200.000 | F26: =D26*E26 -> 0
A27: 604-1 | B27: 单柱式交通标志
A28: 604-1-1 | B28: 800*800mm+800*300mm矩形标志牌（Φ114*6*3900mm立柱） | C28: 座 | D28: 3.000 | F28: =D28*E28 -> 0
A29: 604-1-2 | B29: 1000*1000mm+1000*300mm矩形标志牌（Φ114*6*4100mm立柱） | C29: 座 | D29: 6.000 | F29: =D29*E29 -> 0
A30: 604-1-3 | B30: 900mm正三角标志牌（Φ114*4.5*3400mm立柱） | C30: 座 | D30: 14.000 | F30: =D30*E30 -> 0
A31: 604-1-4 | B31: 1100mm三角标志牌（Φ114*4.5*3550mm立柱） | C31: 座 | D31: 7.000 | F31: =D31*E31 -> 0
A32: 604-1-5 | B32: 2*1100mm三角标志牌（Φ140*6*4563mm立柱） | C32: 座 | D32: 7.000 | F32: =D32*E32 -> 0
A33: 604-1-6 | B33: 600mm圆形标志牌（Φ114*4.5*3500mm立柱） | C33: 座 | D33: 2.000 | F33: =D33*E33 -> 0
A34: 604-1-7 | B34: 800mm圆形标志牌（Φ114*4.5*3500mm立柱） | C34: 座 | D34: 13.000 | F34: =D34*E34 -> 0
A35: 604-1-8 | B35: 1000mm圆形标志牌（Φ114*4.5*3700mm立柱） | C35: 座 | D35: 15.000 | F35: =D35*E35 -> 0
A36: 604-1-9 | B36: 2*800mm圆形标志牌（Φ114*4.5*3500mm立柱） | C36: 座 | D36: 5.000 | F36: =D36*E36 -> 0
A37: 604-1-10 | B37: 2*1000mm圆形标志牌（Φ140*6*3500mm立柱） | C37: 座 | D37: 5.000 | F37: =D37*E37 -> 0
A38: 604-1-11 | B38: 800mm八角形标志牌（Φ114*4.5*3439mm立柱） | C38: 座 | D38: 38.000 | F38: =D38*E38 -> 0
A39: 604-1-12 | B39: 800*800mm矩形标志牌（双面，Φ114*4.5*3700mm立柱） | C39: 座 | D39: 8.000 | F39: =D39*E39 -> 0
... A41: 604-1-14 | B41: 1000*2000mm矩形标志牌（Φ140*6*4700mm立柱） | C41: 座 | D41: 9.000 | F41: =D41*E41 -> 0
...

Sheet 第700章
A1: 工程量清单
A2: 建设项目名称: 茂名市荔枝国家现代农业产业园电白园区 (一期 )配套建设项目 (第二段 )
A3: 编制范围: 贡园大道K1+260~RK13+140（不含涉铁段）、荔枝大道HK0+066.6~HK3+349.95
A4: 工程量清单 第700章 绿化及环境保护设施
A5: 子目号 | B5: 子 目 名 称 | C5: 单位 | D5: 数量 | E5: 单价(元) | F5: 合价(元)
A6: 702 | B6: 铺设表土
A7: 702-1 | B7: 开挖并回填表土 | C7: m3 | D7: 32300.000 | F7: =D7*E7 -> 0
A8: 702-3 | B8: 种植土 | C8: m3 | D8: 27618.111 | F8: =D8*E8 -> 0
A9: 703 | B9: 撒播草种和铺植草皮
A10: 703-1 | B10: 撒播草种 | C10: m2 | D10: 194294.800 | F10: =D10*E10 -> 0
A11: 703-2 | B11: 铺植草皮-马尼拉草 | C11: m2 | D11: 9709.000 | F11: =D11*E11 -> 0
A12: 704-1 | B12: 人工种植乔木
A13: 704-1-8 | B13: 胸径7cm～9cm以内乔木
A14: 704-1-8-1 | B14: 四季桂B（胸径φ7-8cm，H=2.0-2.5m，P=2.0-2.5m） | C14: 株 | D14: 78.000 | F14: =D14*E14 -> 0
A15: 704-1-10 | B15: 胸径12cm～15cm以内乔木
A16: 704-1-10-1 | B16: 美丽异木棉（胸径φ14-15cm，H=5.0-5.5m，P=3.0-3.5m） | C16: 株 | D16: 470.000 | F16: =D16*E16 -> 0
A17: 704-1-10-2 | B17: 麻楝（胸径φ14-15cm，H=5.0-5.5m，P=3.0-3.5m） | C17: 株 | D17: 389.000 | F17: =D17*E17 -> 0
A18: 704-1-10-3 | B18: 香樟B（胸径φ13-14cm，H=5.0-5.5m，P=3.0-3.5m） | C18: 株 | D18: 7.000 | F18: =D18*E18 -> 0
A19: 704-1-10-4 | B19: 秋枫（胸径φ13-14cm，H=5.0-5.5m，P=3.0-3.5m） | C19: 株 | D19: 2434.000 | F19: =D19*E19 -> 0
A20: 704-1-11 | B20: 胸径大于15cm以内乔木
A21: 704-1-11-1 | B21: 香樟A（胸径φ17-18cm，H=7.0-7.5m，P=5m） | C21: 株 | D21: 17.000 | F21: =D21*E21 -> 0
A22: 704-1-11-2 | B22: 凤凰木A（胸径φ17-18cm，H=6.0-6.5m，P=4.0-4.5m） | C22: 株 | D22: 22.000 | F22: =D22*E22 -> 0
A23: 704-2 | B23: 人工种植灌木
A24: 704-2-3 | B24: 冠幅80～120cm以内
A25: 704-2-3-1 | B25: 红车（H=150-180cm，P=80-100cm） | C25: 株 | D25: 31.000 | F25: =D25*E25 -> 0
A26: 704-2-3-2 | B26: 银姬小腊B（H=120cm，P=120cm） | C26: 株 | D26: 41.000 | F26: =D26*E26 -> 0
A27: 704-2-3-3 | B27: 苏铁A（H=40-50cm，P=100-120cm） | C27: 株 | D27: 18.000 | F27: =D27*E27 -> 0
A28: 704-2-3-4 | B28: 苏铁B（H=35-40cm，P=80-100cm） | C28: 株 | D28: 20.000 | F28: =D28*E28 -> 0
A29: 704-2-4 | B29: 冠幅120～150cm以内
A30: 704-2-4-1 | B30: 彩叶扶桑球（H=150cm，P=150cm） | C30: 株 | D30: 26.000 | F30: =D30*E30 -> 0
A31: 704-2-4-2 | B31: 海桐球（H=150cm，P=150cm） | C31: 株 | D31: 82.000 | F31: =D31*E31 -> 0
A32: 704-2-4-3 | B32: 红花继木A（H=150cm，P=150cm） | C32: 株 | D32: 67.000 | F32: =D32*E32 -> 0
A33: 704-2-4-4 | B33: 银姬小腊A（H=150cm，P=150cm） | C33: 株 | D33: 69.000 | F33: =D33*E33 -> 0
A34: 704-2-4-5 | B34: 黄榕球（H=150cm，P=150cm） | C34: 株 | D34: 696.000 | F34: =D34*E34 -> 0
A35: 704-2-4-6 | B35: 灰莉球（H=150cm，P=150cm） | C35: 株 | D35: 37.000 | F35: =D35*E35 -> 0
A36: 704-2-5 | B36: 冠幅大于150cm
A37: 704-2-5-1 | B37: 丛生紫薇（H=2.5-2.8m，P=2.0-2.5m，不少于5杆） | C37: 丛 | D37: 59.000 | F37: =D37*E37 -> 0
A38: 704-2-5-2 | B38: 勒杜鹃桩（H≥2.3m，P=1.5-1.8m） | C38: 株 | D38: 2.000 | F38: =D38*E38 -> 0
A39: 704-2-5-3 | B39: 小叶榕桩B（H≥2.3m，P=1.5-1.8m） | C39: 株 | D39: 8.000 | F39: =D39*E39 -> 0
A40: 704-2-5-4 | B40: 红花继木桩（H≥2.3m，P=1.5-1.8m） | C40: 株 | D40: 5.000 | F40: =D40*E40 -> 0
...

Sheet 第800章
A1: 工程量清单
A2: 建设项目名称: 茂名市荔枝国家现代农业产业园电白园区 (一期 )配套建设项目 (第二段 )
A3: 编制范围: 贡园大道K1+260~RK13+140（不含涉铁段）、荔枝大道HK0+066.6~HK3+349.95
A4: 工程量清单 第800章 机电工程
A5: 子目号 | B5: 子 目 名 称 | C5: 单位 | D5: 数量 | E5: 单价(元) | F5: 合价(元)
A6: 803 | B6: 通信系统
A7: 803-5 | B7: 交换机
A8: 803-5-1 | B8: 工业以太网交换机（2光4电）-不含设备费 | C8: 台 | D8: 34.000 | F8: =D8*E8 -> 0
A9: 803-5-1-1 | B9: 工业以太网交换机（2光4电）-设备暂估价 | C9: 台 | D9: 34.000 | F9: =D9*E9 -> 0
A10: 803-5-2 | B10: 工业以太网交换机（2光8电）-不含设备费 | C10: 台 | D10: 16.000 | F10: =D10*E10 -> 0
A11: 803-5-2-1 | B11: 工业以太网交换机（2光8电）-设备暂估价 | C11: 台 | D11: 16.000 | F11: =D11*E11 -> 0
A12: 803-5-3 | B12: 工业以太网交换机（2光16电）-不含设备费 | C12: 台 | D12: 4.000 | F12: =D12*E12 -> 0
A13: 803-5-3-1 | B13: 工业以太网交换机（2光16电）-设备暂估价 | C13: 台 | D13: 4.000 | F13: =D13*E13 -> 0
A14: 803-7 | B14: 光缆
A15: 803-7-1 | B15: 单模光缆
A16: 803-7-1-1 | B16: 12芯以内
A17: 803-7-1-1-1 | B17: 网络线 | C17: m | D17: 2285.000 | F17: =D17*E17 -> 0
A18: 803-7-2 | B18: 多模光缆
A19: 803-7-2-1 | B19: 12芯以内
A20: 803-7-2-1-1 | B20: 多模光纤 | C20: m | D20: 2140.000 | F20: =D20*E20 -> 0
A21: 803-9 | B21: 光缆接头盒、终端盒 | C21: 个 | D21: 4.000 | F21: =D21*E21 -> 0
A22: 804 | B22: 监控系统
A23: 804-1 | B23: 信息标志
A24: 804-1-5 | B24: 交通信号灯
A25: 804-1-5-1 | B25: 机动车信号灯（LED多功能三位灯φ400）-不含设备费 | C25: 套 | D25: 5.000 | F25: =D25*E25 -> 0
A26: 804-1-5-1-1 | B26: 机动车信号灯（LED多功能三位灯φ400）-设备暂估价 | C26: 套 | D26: 5.000 | F26: =D26*E26 -> 0
A27: 804-1-5-2 | B27: 机动车信号灯（满屏三位灯φ400）-不含设备费 | C27: 套 | D27: 17.000 | F27: =D27*E27 -> 0
A28: 804-1-5-2-1 | B28: 机动车信号灯（满屏三位灯φ400）-设备暂估价 | C28: 套 | D28: 17.000 | F28: =D28*E28 -> 0
A29: 804-1-5-3 | B29: 机动车信号灯杆（6m悬臂杆） | C29: 套 | D29: 5.000 | F29: =D29*E29 -> 0
A30: 804-1-5-4 | B30: 机动车信号灯杆（8m悬臂杆） | C30: 套 | D30: 9.000 | F30: =D30*E30 -> 0
A31: 804-1-5-5 | B31: 人机共杆信号灯杆（5m立柱） | C31: 套 | D31: 2.000 | F31: =D31*E31 -> 0
A32: 804-1-5-6 | B32: 机动车信号灯杆（5m立柱） | C32: 套 | D32: 1.000 | F32: =D32*E32 -> 0
A33: 804-1-5-7 | B33: 人行信号灯（二位灯φ300）-不含设备费 | C33: 套 | D33: 46.000 | F33: =D33*E33 -> 0
A34: 804-1-5-7-1 | B34: 人行信号灯（二位灯φ300）-设备暂估价 | C34: 套 | D34: 46.000 | F34: =D34*E34 -> 0
A35: 804-1-5-8 | B35: 人行信号灯杆（3.5m立柱） | C35: 套 | D35: 30.000 | F35: =D35*E35 -> 0
A36: 804-3 | B36: 视频监控设施
A37: 804-3-7 | B37: 高清抓拍摄像机-不含设备费 | C37: 套 | D37: 34.000 | F37: =D37*E37 -> 0
A38: 804-3-7-1 | B38: 高清抓拍摄像机-设备暂估价 | C38: 套 | D38: 34.000 | F38: =D38*E38 -> 0
A39: 804-3-8 | B39: 一体化球形摄像机-不含设备费 | C39: 套 | D39: 15.000 | F39: =D39*E39 -> 0
A40: 804-3-8-1 | B40: 一体化球形摄像机-设备暂估价 | C40: 套 | D40: 15.000 | F40: =D40*E40 -> 0
...
